Workbook

Sheet 使い方
A1: 月間シフト表テンプレート（無料版）の使い方
A3: 1. 「シフト表」シートのA2に年、B2に月を入れる。日付と曜日が並び、土曜は青、日曜と祝日は赤になる。
A4: 2. A列に氏名、B列に時給を入れる（時給は概算人件費の計算にだけ使う。空欄でもよい）。
A5: 3. 日付の下のセルに区分の記号を入れる。セルを選ぶとリストから選べる。早・中・遅・夜・半・休・有・公が最初から入っている。
A6: 4. 記号や勤務時間を変えたいときは「シフト区分」シートを直す。終了が開始より早ければ夜勤として翌日までで計算する。
A7: 5. 「休み希望」シートに × を入れると、その日に勤務を入れたセルがシフト表で赤くなる。
A8: 6. 出勤日数・労働時間・概算人件費は右端に、日ごとの出勤人数・総労働時間・人件費は下に出る。
A10: サンプルとして4人分の1〜14日を入れてある。消して使う。山田の3日が赤いのは、休み希望と衝突している例。
A11: 祝日は「祝日」シートの一覧で判定している。2025〜2027年分は内閣府の公表データを入れてある。翌年分は行を足す。
A12: 「計算」シートは非表示で、各セルの労働時間を持っている。触らなくてよい。
A14: 配布元: シゴトの型 https://shigotokata.com/
A15: 個人・法人を問わず業務に自由に使ってよい。再配布と販売は不可。

Sheet シフト表
A1: 月間シフト表
A2: 2026 | B2: 10 | D2: 黄色のセルが入力欄。区分の記号は「シフト区分」シートで変えられます。
C4: =IF(1<=DAY(EOMONTH(DATE($A$2,$B$2,1),0)),DATE($A$2,$B$2,1),"") | D4: =IF(2<=DAY(EOMONTH(DATE($A$2,$B$2,1),0)),DATE($A$2,$B$2,2),"") | E4: =IF(3<=DAY(EOMONTH(DATE($A$2,$B$2,1),0)),DATE($A$2,$B$2,3),"") | F4: =IF(4<=DAY(EOMONTH(DATE($A$2,$B$2,1),0)),DATE($A$2,$B$2,4),"") | G4: =IF(5<=DAY(EOMONTH(DATE($A$2,$B$2,1),0)),DATE($A$2,$B$2,5),"") | H4: =IF(6<=DAY(EOMONTH(DATE($A$2,$B$2,1),0)),DATE($A$2,$B$2,6),"") | I4: =IF(7<=DAY(EOMONTH(DATE($A$2,$B$2,1),0)),DATE($A$2,$B$2,7),"") | J4: =IF(8<=DAY(EOMONTH(DATE($A$2,$B$2,1),0)),DATE($A$2,$B$2,8),"") | K4: =IF(9<=DAY(EOMONTH(DATE($A$2,$B$2,1),0)),DATE($A$2,$B$2,9),"") | L4: =IF(10<=DAY(EOMONTH(DATE($A$2,$B$2,1),0)),DATE($A$2,$B$2,10),"") | M4: =IF(11<=DAY(EOMONTH(DATE($A$2,$B$2,1),0)),DATE($A$2,$B$2,11),"") | N4: =IF(12<=DAY(EOMONTH(DATE($A$2,$B$2,1),0)),DATE($A$2,$B$2,12),"") | O4: =IF(13<=DAY(EOMONTH(DATE($A$2,$B$2,1),0)),DATE($A$2,$B$2,13),"") | P4: =IF(14<=DAY(EOMONTH(DATE($A$2,$B$2,1),0)),DATE($A$2,$B$2,14),"") | Q4: =IF(15<=DAY(EOMONTH(DATE($A$2,$B$2,1),0)),DATE($A$2,$B$2,15),"") | R4: =IF(16<=DAY(EOMONTH(DATE($A$2,$B$2,1),0)),DATE($A$2,$B$2,16),"") | S4: =IF(17<=DAY(EOMONTH(DATE($A$2,$B$2,1),0)),DATE($A$2,$B$2,17),"") | T4: =IF(18<=DAY(EOMONTH(DATE($A$2,$B$2,1),0)),DATE($A$2,$B$2,18),"") | U4: =IF(19<=DAY(EOMONTH(DATE($A$2,$B$2,1),0)),DATE($A$2,$B$2,19),"") | V4: =IF(20<=DAY(EOMONTH(DATE($A$2,$B$2,1),0)),DATE($A$2,$B$2,20),"") | W4: =IF(21<=DAY(EOMONTH(DATE($A$2,$B$2,1),0)),DATE($A$2,$B$2,21),"") | X4: =IF(22<=DAY(EOMONTH(DATE($A$2,$B$2,1),0)),DATE($A$2,$B$2,22),"") | Y4: =IF(23<=DAY(EOMONTH(DATE($A$2,$B$2,1),0)),DATE($A$2,$B$2,23),"") | Z4: =IF(24<=DAY(EOMONTH(DATE($A$2,$B$2,1),0)),DATE($A$2,$B$2,24),"") | AA4: =IF(25<=DAY(EOMONTH(DATE($A$2,$B$2,1),0)),DATE($A$2,$B$2,25),"") | AB4: =IF(26<=DAY(EOMONTH(DATE($A$2,$B$2,1),0)),DATE($A$2,$B$2,26),"") | AC4: =IF(27<=DAY(EOMONTH(DATE($A$2,$B$2,1),0)),DATE($A$2,$B$2,27),"") | AD4: =IF(28<=DAY(EOMONTH(DATE($A$2,$B$2,1),0)),DATE($A$2,$B$2,28),"") | AE4: =IF(29<=DAY(EOMONTH(DATE($A$2,$B$2,1),0)),DATE($A$2,$B$2,29),"") | AF4: =IF(30<=DAY(EOMONTH(DATE($A$2,$B$2,1),0)),DATE($A$2,$B$2,30),"") | AG4: =IF(31<=DAY(EOMONTH(DATE($A$2,$B$2,1),0)),DATE($A$2,$B$2,31),"")
C5: =IF(C4="","",TEXT(C4,"aaa")) | D5: =IF(D4="","",TEXT(D4,"aaa")) | E5: =IF(E4="","",TEXT(E4,"aaa")) | F5: =IF(F4="","",TEXT(F4,"aaa")) | G5: =IF(G4="","",TEXT(G4,"aaa")) | H5: =IF(H4="","",TEXT(H4,"aaa")) | I5: =IF(I4="","",TEXT(I4,"aaa")) | J5: =IF(J4="","",TEXT(J4,"aaa")) | ... AG5: =IF(AG4="","",TEXT(AG4,"aaa"))
A6: 氏名 | B6: 時給 | AH6: 出勤日数 | AI6: 労働時間 | AJ6: 概算人件費 | AK6: 有給
A7: 山田 | B7: 1200 | C7: 早 | D7: 早 | E7: 早 | F7: 休 | G7: 早 | H7: 早 | I7: 休 | J7: 早 | K7: 早 | L7: 早 | M7: 休 | N7: 早 | O7: 早 | P7: 休 | AH7: =COUNTIF('計算'!C7:AG7,">0") | AI7: =SUM('計算'!C7:AG7) | AJ7: =AI7*B7 | AK7: =COUNTIF(C7:AG7,"有")
A8: 佐藤 | B8: 1100 | C8: 遅 | D8: 遅 | E8: 休 | F8: 遅 | G8: 遅 | H8: 遅 | I8: 休 | J8: 遅 | K8: 休 | L8: 遅 | M8: 遅 | N8: 遅 | O8: 休 | P8: 遅 | AH8: =COUNTIF('計算'!C8:AG8,">0") | AI8: =SUM('計算'!C8:AG8) | AJ8: =AI8*B8 | AK8: =COUNTIF(C8:AG8,"有")
A9: 鈴木 | B9: 1300 | C9: 夜 | D9: 休 | E9: 夜 | F9: 休 | G9: 夜 | H9: 休 | I9: 夜 | J9: 休 | K9: 夜 | L9: 休 | M9: 夜 | N9: 休 | O9: 夜 | P9: 休 | AH9: =COUNTIF('計算'!C9:AG9,">0") | AI9: =SUM('計算'!C9:AG9) | AJ9: =AI9*B9 | AK9: =COUNTIF(C9:AG9,"有")
A10: 高橋 | B10: 1050 | C10: 半 | D10: 半 | E10: 半 | F10: 休 | G10: 休 | H10: 半 | I10: 半 | J10: 半 | K10: 休 | L10: 休 | M10: 半 | N10: 半 | O10: 半 | P10: 休 | AH10: =COUNTIF('計算'!C10:AG10,">0") | AI10: =SUM('計算'!C10:AG10) | AJ10: =AI10*B10 | AK10: =COUNTIF(C10:AG10,"有")
AH11: =COUNTIF('計算'!C11:AG11,">0") | AI11: =SUM('計算'!C11:AG11) | AJ11: =AI11*B11 | AK11: =COUNTIF(C11:AG11,"有")
AH12: =COUNTIF('計算'!C12:AG12,">0") | AI12: =SUM('計算'!C12:AG12) | AJ12: =AI12*B12 | AK12: =COUNTIF(C12:AG12,"有")
AH13: =COUNTIF('計算'!C13:AG13,">0") | AI13: =SUM('計算'!C13:AG13) | AJ13: =AI13*B13 | AK13: =COUNTIF(C13:AG13,"有")
AH14: =COUNTIF('計算'!C14:AG14,">0") | AI14: =SUM('計算'!C14:AG14) | AJ14: =AI14*B14 | AK14: =COUNTIF(C14:AG14,"有")
AH15: =COUNTIF('計算'!C15:AG15,">0") | AI15: =SUM('計算'!C15:AG15) | AJ15: =AI15*B15 | AK15: =COUNTIF(C15:AG15,"有")
AH16: =COUNTIF('計算'!C16:AG16,">0") | AI16: =SUM('計算'!C16:AG16) | AJ16: =AI16*B16 | AK16: =COUNTIF(C16:AG16,"有")
AH17: =COUNTIF('計算'!C17:AG17,">0") | AI17: =SUM('計算'!C17:AG17) | AJ17: =AI17*B17 | AK17: =COUNTIF(C17:AG17,"有")
AH18: =COUNTIF('計算'!C18:AG18,">0") | AI18: =SUM('計算'!C18:AG18) | AJ18: =AI18*B18 | AK18: =COUNTIF(C18:AG18,"有")
AH19: =COUNTIF('計算'!C19:AG19,">0") | AI19: =SUM('計算'!C19:AG19) | AJ19: =AI19*B19 | AK19: =COUNTIF(C19:AG19,"有")
AH20: =COUNTIF('計算'!C20:AG20,">0") | AI20: =SUM('計算'!C20:AG20) | AJ20: =AI20*B20 | AK20: =COUNTIF(C20:AG20,"有")
AH21: =COUNTIF('計算'!C21:AG21,">0") | AI21: =SUM('計算'!C21:AG21) | AJ21: =AI21*B21 | AK21: =COUNTIF(C21:AG21,"有")
A23: 出勤人数 | C23: =IF(C$4="","",COUNTIF('計算'!C$7:C$21,">0")) | D23: =IF(D$4="","",COUNTIF('計算'!D$7:D$21,">0")) | E23: =IF(E$4="","",COUNTIF('計算'!E$7:E$21,">0")) | F23: =IF(F$4="","",COUNTIF('計算'!F$7:F$21,">0")) | G23: =IF(G$4="","",COUNTIF('計算'!G$7:G$21,">0")) | H23: =IF(H$4="","",COUNTIF('計算'!H$7:H$21,">0")) | I23: =IF(I$4="","",COUNTIF('計算'!I$7:I$21,">0")) | J23: =IF(J$4="","",COUNTIF('計算'!J$7:J$21,">0")) | ... AG23: =IF(AG$4="","",COUNTIF('計算'!AG$7:AG$21,">0")) | AH23: 月合計
A24: 総労働時間 | C24: =IF(C$4="","",SUM('計算'!C$7:C$21)) | D24: =IF(D$4="","",SUM('計算'!D$7:D$21)) | E24: =IF(E$4="","",SUM('計算'!E$7:E$21)) | F24: =IF(F$4="","",SUM('計算'!F$7:F$21)) | G24: =IF(G$4="","",SUM('計算'!G$7:G$21)) | H24: =IF(H$4="","",SUM('計算'!H$7:H$21)) | I24: =IF(I$4="","",SUM('計算'!I$7:I$21)) | J24: =IF(J$4="","",SUM('計算'!J$7:J$21)) | ... AG24: =IF(AG$4="","",SUM('計算'!AG$7:AG$21)) | AI24: =SUM(AI7:AI21)
A25: 人件費 | C25: =IF(C$4="","",SUMPRODUCT('計算'!C$7:C$21,$B$7:$B$21)) | D25: =IF(D$4="","",SUMPRODUCT('計算'!D$7:D$21,$B$7:$B$21)) | E25: =IF(E$4="","",SUMPRODUCT('計算'!E$7:E$21,$B$7:$B$21)) | F25: =IF(F$4="","",SUMPRODUCT('計算'!F$7:F$21,$B$7:$B$21)) | G25: =IF(G$4="","",SUMPRODUCT('計算'!G$7:G$21,$B$7:$B$21)) | H25: =IF(H$4="","",SUMPRODUCT('計算'!H$7:H$21,$B$7:$B$21)) | I25: =IF(I$4="","",SUMPRODUCT('計算'!I$7:I$21,$B$7:$B$21)) | J25: =IF(J$4="","",SUMPRODUCT('計算'!J$7:J$21,$B$7:$B$21)) | ... AG25: =IF(AG$4="","",SUMPRODUCT('計算'!AG$7:AG$21,$B$7:$B$21)) | AJ25: =SUM(AJ7:AJ21)

Sheet シフト区分
A1: 記号 | B1: 名称 | C1: 開始 | D1: 終了 | E1: 休憩(分) | F1: 労働時間 | H1: 記号と時間は自由に変えられます。空き行（10・11行目）に追加もできます。
A2: 早 | B2: 早番 | C2: 0.375 | D2: 0.75 | E2: 60 | F2: =IF(OR(C2="",D2=""),0,ROUND((IF(D2<C2,D2+1,D2)-C2)*24-IF(E2="",0,E2)/60,2)) | H2: 終了が開始より早い場合（夜勤）は日をまたぐものとして計算します。
A3: 中 | B3: 中番 | C3: 0.45833333 | D3: 0.83333333 | E3: 60 | F3: =IF(OR(C3="",D3=""),0,ROUND((IF(D3<C3,D3+1,D3)-C3)*24-IF(E3="",0,E3)/60,2))
A4: 遅 | B4: 遅番 | C4: 0.54166667 | D4: 0.91666667 | E4: 60 | F4: =IF(OR(C4="",D4=""),0,ROUND((IF(D4<C4,D4+1,D4)-C4)*24-IF(E4="",0,E4)/60,2))
A5: 夜 | B5: 夜勤 | C5: 0.91666667 | D5: 0.29166667 | E5: 60 | F5: =IF(OR(C5="",D5=""),0,ROUND((IF(D5<C5,D5+1,D5)-C5)*24-IF(E5="",0,E5)/60,2))
A6: 半 | B6: 半日 | C6: 0.375 | D6: 0.54166667 | E6: 0 | F6: =IF(OR(C6="",D6=""),0,ROUND((IF(D6<C6,D6+1,D6)-C6)*24-IF(E6="",0,E6)/60,2))
A7: 休 | B7: 休み | F7: =IF(OR(C7="",D7=""),0,ROUND((IF(D7<C7,D7+1,D7)-C7)*24-IF(E7="",0,E7)/60,2))
A8: 有 | B8: 有給 | F8: =IF(OR(C8="",D8=""),0,ROUND((IF(D8<C8,D8+1,D8)-C8)*24-IF(E8="",0,E8)/60,2))
A9: 公 | B9: 公休 | F9: =IF(OR(C9="",D9=""),0,ROUND((IF(D9<C9,D9+1,D9)-C9)*24-IF(E9="",0,E9)/60,2))
F10: =IF(OR(C10="",D10=""),0,ROUND((IF(D10<C10,D10+1,D10)-C10)*24-IF(E10="",0,E10)/60,2))
F11: =IF(OR(C11="",D11=""),0,ROUND((IF(D11<C11,D11+1,D11)-C11)*24-IF(E11="",0,E11)/60,2))

Sheet 休み希望
A1: 休み希望
A2: 休みたい日に × を入れると、シフト表で勤務を割り当てたセルが赤くなります。
A4: ="対象: "&'シフト表'!A2&"年"&'シフト表'!B2&"月"
C5: ='シフト表'!C4 | D5: ='シフト表'!D4 | E5: ='シフト表'!E4 | F5: ='シフト表'!F4 | G5: ='シフト表'!G4 | H5: ='シフト表'!H4 | I5: ='シフト表'!I4 | J5: ='シフト表'!J4 | ... AG5: ='シフト表'!AG4
A6: 氏名 | C6: ='シフト表'!C5 | D6: ='シフト表'!D5 | E6: ='シフト表'!E5 | F6: ='シフト表'!F5 | G6: ='シフト表'!G5 | H6: ='シフト表'!H5 | I6: ='シフト表'!I5 | J6: ='シフト表'!J5 | ... AG6: ='シフト表'!AG5
A7: =IF('シフト表'!A7="","",'シフト表'!A7) | E7: ×
A8: =IF('シフト表'!A8="","",'シフト表'!A8) | J8: ×
A9: =IF('シフト表'!A9="","",'シフト表'!A9)
A10: =IF('シフト表'!A10="","",'シフト表'!A10)
A11: =IF('シフト表'!A11="","",'シフト表'!A11)
A12: =IF('シフト表'!A12="","",'シフト表'!A12)
A13: =IF('シフト表'!A13="","",'シフト表'!A13)
A14: =IF('シフト表'!A14="","",'シフト表'!A14)
A15: =IF('シフト表'!A15="","",'シフト表'!A15)
A16: =IF('シフト表'!A16="","",'シフト表'!A16)
A17: =IF('シフト表'!A17="","",'シフト表'!A17)
A18: =IF('シフト表'!A18="","",'シフト表'!A18)
A19: =IF('シフト表'!A19="","",'シフト表'!A19)
A20: =IF('シフト表'!A20="","",'シフト表'!A20)
A21: =IF('シフト表'!A21="","",'シフト表'!A21)

Sheet 祝日
A1: 日付 | B1: 名称 | D1: 内閣府「国民の祝日」CSV（2025〜2027年）から転記。翌年分は行を足すだけで色付けに反映されます。
A2: 45658 | B2: 元日
A3: 45670 | B3: 成人の日
A4: 45699 | B4: 建国記念の日
A5: 45711 | B5: 天皇誕生日
A6: 45712 | B6: 休日
A7: 45736 | B7: 春分の日
A8: 45776 | B8: 昭和の日
A9: 45780 | B9: 憲法記念日
A10: 45781 | B10: みどりの日
A11: 45782 | B11: こどもの日
A12: 45783 | B12: 休日
A13: 45859 | B13: 海の日
... A55: 46714 | B55: 勤労感謝の日

Sheet 計算
A1: 各セルの労働時間（自動計算。触らない）
C7: =IF('シフト表'!C7="",0,IFERROR(VLOOKUP('シフト表'!C7,'シフト区分'!$A$2:$F$11,6,FALSE),0)) | D7: =IF('シフト表'!D7="",0,IFERROR(VLOOKUP('シフト表'!D7,'シフト区分'!$A$2:$F$11,6,FALSE),0)) | E7: =IF('シフト表'!E7="",0,IFERROR(VLOOKUP('シフト表'!E7,'シフト区分'!$A$2:$F$11,6,FALSE),0)) | F7: =IF('シフト表'!F7="",0,IFERROR(VLOOKUP('シフト表'!F7,'シフト区分'!$A$2:$F$11,6,FALSE),0)) | G7: =IF('シフト表'!G7="",0,IFERROR(VLOOKUP('シフト表'!G7,'シフト区分'!$A$2:$F$11,6,FALSE),0)) | H7: =IF('シフト表'!H7="",0,IFERROR(VLOOKUP('シフト表'!H7,'シフト区分'!$A$2:$F$11,6,FALSE),0)) | I7: =IF('シフト表'!I7="",0,IFERROR(VLOOKUP('シフト表'!I7,'シフト区分'!$A$2:$F$11,6,FALSE),0)) | J7: =IF('シフト表'!J7="",0,IFERROR(VLOOKUP('シフト表'!J7,'シフト区分'!$A$2:$F$11,6,FALSE),0)) | ... AG7: =IF('シフト表'!AG7="",0,IFERROR(VLOOKUP('シフト表'!AG7,'シフト区分'!$A$2:$F$11,6,FALSE),0))
C8: =IF('シフト表'!C8="",0,IFERROR(VLOOKUP('シフト表'!C8,'シフト区分'!$A$2:$F$11,6,FALSE),0)) | D8: =IF('シフト表'!D8="",0,IFERROR(VLOOKUP('シフト表'!D8,'シフト区分'!$A$2:$F$11,6,FALSE),0)) | E8: =IF('シフト表'!E8="",0,IFERROR(VLOOKUP('シフト表'!E8,'シフト区分'!$A$2:$F$11,6,FALSE),0)) | F8: =IF('シフト表'!F8="",0,IFERROR(VLOOKUP('シフト表'!F8,'シフト区分'!$A$2:$F$11,6,FALSE),0)) | G8: =IF('シフト表'!G8="",0,IFERROR(VLOOKUP('シフト表'!G8,'シフト区分'!$A$2:$F$11,6,FALSE),0)) | H8: =IF('シフト表'!H8="",0,IFERROR(VLOOKUP('シフト表'!H8,'シフト区分'!$A$2:$F$11,6,FALSE),0)) | I8: =IF('シフト表'!I8="",0,IFERROR(VLOOKUP('シフト表'!I8,'シフト区分'!$A$2:$F$11,6,FALSE),0)) | J8: =IF('シフト表'!J8="",0,IFERROR(VLOOKUP('シフト表'!J8,'シフト区分'!$A$2:$F$11,6,FALSE),0)) | ... AG8: =IF('シフト表'!AG8="",0,IFERROR(VLOOKUP('シフト表'!AG8,'シフト区分'!$A$2:$F$11,6,FALSE),0))
C9: =IF('シフト表'!C9="",0,IFERROR(VLOOKUP('シフト表'!C9,'シフト区分'!$A$2:$F$11,6,FALSE),0)) | D9: =IF('シフト表'!D9="",0,IFERROR(VLOOKUP('シフト表'!D9,'シフト区分'!$A$2:$F$11,6,FALSE),0)) | E9: =IF('シフト表'!E9="",0,IFERROR(VLOOKUP('シフト表'!E9,'シフト区分'!$A$2:$F$11,6,FALSE),0)) | F9: =IF('シフト表'!F9="",0,IFERROR(VLOOKUP('シフト表'!F9,'シフト区分'!$A$2:$F$11,6,FALSE),0)) | G9: =IF('シフト表'!G9="",0,IFERROR(VLOOKUP('シフト表'!G9,'シフト区分'!$A$2:$F$11,6,FALSE),0)) | H9: =IF('シフト表'!H9="",0,IFERROR(VLOOKUP('シフト表'!H9,'シフト区分'!$A$2:$F$11,6,FALSE),0)) | I9: =IF('シフト表'!I9="",0,IFERROR(VLOOKUP('シフト表'!I9,'シフト区分'!$A$2:$F$11,6,FALSE),0)) | J9: =IF('シフト表'!J9="",0,IFERROR(VLOOKUP('シフト表'!J9,'シフト区分'!$A$2:$F$11,6,FALSE),0)) | ... AG9: =IF('シフト表'!AG9="",0,IFERROR(VLOOKUP('シフト表'!AG9,'シフト区分'!$A$2:$F$11,6,FALSE),0))
C10: =IF('シフト表'!C10="",0,IFERROR(VLOOKUP('シフト表'!C10,'シフト区分'!$A$2:$F$11,6,FALSE),0)) | D10: =IF('シフト表'!D10="",0,IFERROR(VLOOKUP('シフト表'!D10,'シフト区分'!$A$2:$F$11,6,FALSE),0)) | E10: =IF('シフト表'!E10="",0,IFERROR(VLOOKUP('シフト表'!E10,'シフト区分'!$A$2:$F$11,6,FALSE),0)) | F10: =IF('シフト表'!F10="",0,IFERROR(VLOOKUP('シフト表'!F10,'シフト区分'!$A$2:$F$11,6,FALSE),0)) | G10: =IF('シフト表'!G10="",0,IFERROR(VLOOKUP('シフト表'!G10,'シフト区分'!$A$2:$F$11,6,FALSE),0)) | H10: =IF('シフト表'!H10="",0,IFERROR(VLOOKUP('シフト表'!H10,'シフト区分'!$A$2:$F$11,6,FALSE),0)) | I10: =IF('シフト表'!I10="",0,IFERROR(VLOOKUP('シフト表'!I10,'シフト区分'!$A$2:$F$11,6,FALSE),0)) | J10: =IF('シフト表'!J10="",0,IFERROR(VLOOKUP('シフト表'!J10,'シフト区分'!$A$2:$F$11,6,FALSE),0)) | ... AG10: =IF('シフト表'!AG10="",0,IFERROR(VLOOKUP('シフト表'!AG10,'シフト区分'!$A$2:$F$11,6,FALSE),0))
C11: =IF('シフト表'!C11="",0,IFERROR(VLOOKUP('シフト表'!C11,'シフト区分'!$A$2:$F$11,6,FALSE),0)) | D11: =IF('シフト表'!D11="",0,IFERROR(VLOOKUP('シフト表'!D11,'シフト区分'!$A$2:$F$11,6,FALSE),0)) | E11: =IF('シフト表'!E11="",0,IFERROR(VLOOKUP('シフト表'!E11,'シフト区分'!$A$2:$F$11,6,FALSE),0)) | F11: =IF('シフト表'!F11="",0,IFERROR(VLOOKUP('シフト表'!F11,'シフト区分'!$A$2:$F$11,6,FALSE),0)) | G11: =IF('シフト表'!G11="",0,IFERROR(VLOOKUP('シフト表'!G11,'シフト区分'!$A$2:$F$11,6,FALSE),0)) | H11: =IF('シフト表'!H11="",0,IFERROR(VLOOKUP('シフト表'!H11,'シフト区分'!$A$2:$F$11,6,FALSE),0)) | I11: =IF('シフト表'!I11="",0,IFERROR(VLOOKUP('シフト表'!I11,'シフト区分'!$A$2:$F$11,6,FALSE),0)) | J11: =IF('シフト表'!J11="",0,IFERROR(VLOOKUP('シフト表'!J11,'シフト区分'!$A$2:$F$11,6,FALSE),0)) | ... AG11: =IF('シフト表'!AG11="",0,IFERROR(VLOOKUP('シフト表'!AG11,'シフト区分'!$A$2:$F$11,6,FALSE),0))
C12: =IF('シフト表'!C12="",0,IFERROR(VLOOKUP('シフト表'!C12,'シフト区分'!$A$2:$F$11,6,FALSE),0)) | D12: =IF('シフト表'!D12="",0,IFERROR(VLOOKUP('シフト表'!D12,'シフト区分'!$A$2:$F$11,6,FALSE),0)) | E12: =IF('シフト表'!E12="",0,IFERROR(VLOOKUP('シフト表'!E12,'シフト区分'!$A$2:$F$11,6,FALSE),0)) | F12: =IF('シフト表'!F12="",0,IFERROR(VLOOKUP('シフト表'!F12,'シフト区分'!$A$2:$F$11,6,FALSE),0)) | G12: =IF('シフト表'!G12="",0,IFERROR(VLOOKUP('シフト表'!G12,'シフト区分'!$A$2:$F$11,6,FALSE),0)) | H12: =IF('シフト表'!H12="",0,IFERROR(VLOOKUP('シフト表'!H12,'シフト区分'!$A$2:$F$11,6,FALSE),0)) | I12: =IF('シフト表'!I12="",0,IFERROR(VLOOKUP('シフト表'!I12,'シフト区分'!$A$2:$F$11,6,FALSE),0)) | J12: =IF('シフト表'!J12="",0,IFERROR(VLOOKUP('シフト表'!J12,'シフト区分'!$A$2:$F$11,6,FALSE),0)) | ... AG12: =IF('シフト表'!AG12="",0,IFERROR(VLOOKUP('シフト表'!AG12,'シフト区分'!$A$2:$F$11,6,FALSE),0))
C13: =IF('シフト表'!C13="",0,IFERROR(VLOOKUP('シフト表'!C13,'シフト区分'!$A$2:$F$11,6,FALSE),0)) | D13: =IF('シフト表'!D13="",0,IFERROR(VLOOKUP('シフト表'!D13,'シフト区分'!$A$2:$F$11,6,FALSE),0)) | E13: =IF('シフト表'!E13="",0,IFERROR(VLOOKUP('シフト表'!E13,'シフト区分'!$A$2:$F$11,6,FALSE),0)) | F13: =IF('シフト表'!F13="",0,IFERROR(VLOOKUP('シフト表'!F13,'シフト区分'!$A$2:$F$11,6,FALSE),0)) | G13: =IF('シフト表'!G13="",0,IFERROR(VLOOKUP('シフト表'!G13,'シフト区分'!$A$2:$F$11,6,FALSE),0)) | H13: =IF('シフト表'!H13="",0,IFERROR(VLOOKUP('シフト表'!H13,'シフト区分'!$A$2:$F$11,6,FALSE),0)) | I13: =IF('シフト表'!I13="",0,IFERROR(VLOOKUP('シフト表'!I13,'シフト区分'!$A$2:$F$11,6,FALSE),0)) | J13: =IF('シフト表'!J13="",0,IFERROR(VLOOKUP('シフト表'!J13,'シフト区分'!$A$2:$F$11,6,FALSE),0)) | ... AG13: =IF('シフト表'!AG13="",0,IFERROR(VLOOKUP('シフト表'!AG13,'シフト区分'!$A$2:$F$11,6,FALSE),0))
C14: =IF('シフト表'!C14="",0,IFERROR(VLOOKUP('シフト表'!C14,'シフト区分'!$A$2:$F$11,6,FALSE),0)) | D14: =IF('シフト表'!D14="",0,IFERROR(VLOOKUP('シフト表'!D14,'シフト区分'!$A$2:$F$11,6,FALSE),0)) | E14: =IF('シフト表'!E14="",0,IFERROR(VLOOKUP('シフト表'!E14,'シフト区分'!$A$2:$F$11,6,FALSE),0)) | F14: =IF('シフト表'!F14="",0,IFERROR(VLOOKUP('シフト表'!F14,'シフト区分'!$A$2:$F$11,6,FALSE),0)) | G14: =IF('シフト表'!G14="",0,IFERROR(VLOOKUP('シフト表'!G14,'シフト区分'!$A$2:$F$11,6,FALSE),0)) | H14: =IF('シフト表'!H14="",0,IFERROR(VLOOKUP('シフト表'!H14,'シフト区分'!$A$2:$F$11,6,FALSE),0)) | I14: =IF('シフト表'!I14="",0,IFERROR(VLOOKUP('シフト表'!I14,'シフト区分'!$A$2:$F$11,6,FALSE),0)) | J14: =IF('シフト表'!J14="",0,IFERROR(VLOOKUP('シフト表'!J14,'シフト区分'!$A$2:$F$11,6,FALSE),0)) | ... AG14: =IF('シフト表'!AG14="",0,IFERROR(VLOOKUP('シフト表'!AG14,'シフト区分'!$A$2:$F$11,6,FALSE),0))
C15: =IF('シフト表'!C15="",0,IFERROR(VLOOKUP('シフト表'!C15,'シフト区分'!$A$2:$F$11,6,FALSE),0)) | D15: =IF('シフト表'!D15="",0,IFERROR(VLOOKUP('シフト表'!D15,'シフト区分'!$A$2:$F$11,6,FALSE),0)) | E15: =IF('シフト表'!E15="",0,IFERROR(VLOOKUP('シフト表'!E15,'シフト区分'!$A$2:$F$11,6,FALSE),0)) | F15: =IF('シフト表'!F15="",0,IFERROR(VLOOKUP('シフト表'!F15,'シフト区分'!$A$2:$F$11,6,FALSE),0)) | G15: =IF('シフト表'!G15="",0,IFERROR(VLOOKUP('シフト表'!G15,'シフト区分'!$A$2:$F$11,6,FALSE),0)) | H15: =IF('シフト表'!H15="",0,IFERROR(VLOOKUP('シフト表'!H15,'シフト区分'!$A$2:$F$11,6,FALSE),0)) | I15: =IF('シフト表'!I15="",0,IFERROR(VLOOKUP('シフト表'!I15,'シフト区分'!$A$2:$F$11,6,FALSE),0)) | J15: =IF('シフト表'!J15="",0,IFERROR(VLOOKUP('シフト表'!J15,'シフト区分'!$A$2:$F$11,6,FALSE),0)) | ... AG15: =IF('シフト表'!AG15="",0,IFERROR(VLOOKUP('シフト表'!AG15,'シフト区分'!$A$2:$F$11,6,FALSE),0))
C16: =IF('シフト表'!C16="",0,IFERROR(VLOOKUP('シフト表'!C16,'シフト区分'!$A$2:$F$11,6,FALSE),0)) | D16: =IF('シフト表'!D16="",0,IFERROR(VLOOKUP('シフト表'!D16,'シフト区分'!$A$2:$F$11,6,FALSE),0)) | E16: =IF('シフト表'!E16="",0,IFERROR(VLOOKUP('シフト表'!E16,'シフト区分'!$A$2:$F$11,6,FALSE),0)) | F16: =IF('シフト表'!F16="",0,IFERROR(VLOOKUP('シフト表'!F16,'シフト区分'!$A$2:$F$11,6,FALSE),0)) | G16: =IF('シフト表'!G16="",0,IFERROR(VLOOKUP('シフト表'!G16,'シフト区分'!$A$2:$F$11,6,FALSE),0)) | H16: =IF('シフト表'!H16="",0,IFERROR(VLOOKUP('シフト表'!H16,'シフト区分'!$A$2:$F$11,6,FALSE),0)) | I16: =IF('シフト表'!I16="",0,IFERROR(VLOOKUP('シフト表'!I16,'シフト区分'!$A$2:$F$11,6,FALSE),0)) | J16: =IF('シフト表'!J16="",0,IFERROR(VLOOKUP('シフト表'!J16,'シフト区分'!$A$2:$F$11,6,FALSE),0)) | ... AG16: =IF('シフト表'!AG16="",0,IFERROR(VLOOKUP('シフト表'!AG16,'シフト区分'!$A$2:$F$11,6,FALSE),0))
C17: =IF('シフト表'!C17="",0,IFERROR(VLOOKUP('シフト表'!C17,'シフト区分'!$A$2:$F$11,6,FALSE),0)) | D17: =IF('シフト表'!D17="",0,IFERROR(VLOOKUP('シフト表'!D17,'シフト区分'!$A$2:$F$11,6,FALSE),0)) | E17: =IF('シフト表'!E17="",0,IFERROR(VLOOKUP('シフト表'!E17,'シフト区分'!$A$2:$F$11,6,FALSE),0)) | F17: =IF('シフト表'!F17="",0,IFERROR(VLOOKUP('シフト表'!F17,'シフト区分'!$A$2:$F$11,6,FALSE),0)) | G17: =IF('シフト表'!G17="",0,IFERROR(VLOOKUP('シフト表'!G17,'シフト区分'!$A$2:$F$11,6,FALSE),0)) | H17: =IF('シフト表'!H17="",0,IFERROR(VLOOKUP('シフト表'!H17,'シフト区分'!$A$2:$F$11,6,FALSE),0)) | I17: =IF('シフト表'!I17="",0,IFERROR(VLOOKUP('シフト表'!I17,'シフト区分'!$A$2:$F$11,6,FALSE),0)) | J17: =IF('シフト表'!J17="",0,IFERROR(VLOOKUP('シフト表'!J17,'シフト区分'!$A$2:$F$11,6,FALSE),0)) | ... AG17: =IF('シフト表'!AG17="",0,IFERROR(VLOOKUP('シフト表'!AG17,'シフト区分'!$A$2:$F$11,6,FALSE),0))
C18: =IF('シフト表'!C18="",0,IFERROR(VLOOKUP('シフト表'!C18,'シフト区分'!$A$2:$F$11,6,FALSE),0)) | D18: =IF('シフト表'!D18="",0,IFERROR(VLOOKUP('シフト表'!D18,'シフト区分'!$A$2:$F$11,6,FALSE),0)) | E18: =IF('シフト表'!E18="",0,IFERROR(VLOOKUP('シフト表'!E18,'シフト区分'!$A$2:$F$11,6,FALSE),0)) | F18: =IF('シフト表'!F18="",0,IFERROR(VLOOKUP('シフト表'!F18,'シフト区分'!$A$2:$F$11,6,FALSE),0)) | G18: =IF('シフト表'!G18="",0,IFERROR(VLOOKUP('シフト表'!G18,'シフト区分'!$A$2:$F$11,6,FALSE),0)) | H18: =IF('シフト表'!H18="",0,IFERROR(VLOOKUP('シフト表'!H18,'シフト区分'!$A$2:$F$11,6,FALSE),0)) | I18: =IF('シフト表'!I18="",0,IFERROR(VLOOKUP('シフト表'!I18,'シフト区分'!$A$2:$F$11,6,FALSE),0)) | J18: =IF('シフト表'!J18="",0,IFERROR(VLOOKUP('シフト表'!J18,'シフト区分'!$A$2:$F$11,6,FALSE),0)) | ... AG18: =IF('シフト表'!AG18="",0,IFERROR(VLOOKUP('シフト表'!AG18,'シフト区分'!$A$2:$F$11,6,FALSE),0))
... C21: =IF('シフト表'!C21="",0,IFERROR(VLOOKUP('シフト表'!C21,'シフト区分'!$A$2:$F$11,6,FALSE),0)) | D21: =IF('シフト表'!D21="",0,IFERROR(VLOOKUP('シフト表'!D21,'シフト区分'!$A$2:$F$11,6,FALSE),0)) | E21: =IF('シフト表'!E21="",0,IFERROR(VLOOKUP('シフト表'!E21,'シフト区分'!$A$2:$F$11,6,FALSE),0)) | F21: =IF('シフト表'!F21="",0,IFERROR(VLOOKUP('シフト表'!F21,'シフト区分'!$A$2:$F$11,6,FALSE),0)) | G21: =IF('シフト表'!G21="",0,IFERROR(VLOOKUP('シフト表'!G21,'シフト区分'!$A$2:$F$11,6,FALSE),0)) | H21: =IF('シフト表'!H21="",0,IFERROR(VLOOKUP('シフト表'!H21,'シフト区分'!$A$2:$F$11,6,FALSE),0)) | I21: =IF('シフト表'!I21="",0,IFERROR(VLOOKUP('シフト表'!I21,'シフト区分'!$A$2:$F$11,6,FALSE),0)) | J21: =IF('シフト表'!J21="",0,IFERROR(VLOOKUP('シフト表'!J21,'シフト区分'!$A$2:$F$11,6,FALSE),0)) | ... AG21: =IF('シフト表'!AG21="",0,IFERROR(VLOOKUP('シフト表'!AG21,'シフト区分'!$A$2:$F$11,6,FALSE),0))
